BEGIN:VCALENDAR
VERSION:2.0
PRODID:-//Willkommen bei Alexis &amp; Monika - ECPv6.15.20//NONSGML v1.0//EN
CALSCALE:GREGORIAN
METHOD:PUBLISH
X-WR-CALNAME:Willkommen bei Alexis &amp; Monika
X-ORIGINAL-URL:https://gehrt.ch
X-WR-CALDESC:Veranstaltungen für Willkommen bei Alexis &amp; Monika
REFRESH-INTERVAL;VALUE=DURATION:PT1H
X-Robots-Tag:noindex
X-PUBLISHED-TTL:PT1H
BEGIN:VTIMEZONE
TZID:Europe/Zurich
BEGIN:DAYLIGHT
TZOFFSETFROM:+0100
TZOFFSETTO:+0200
TZNAME:CEST
DTSTART:20250330T010000
END:DAYLIGHT
BEGIN:STANDARD
TZOFFSETFROM:+0200
TZOFFSETTO:+0100
TZNAME:CET
DTSTART:20251026T010000
END:STANDARD
BEGIN:DAYLIGHT
TZOFFSETFROM:+0100
TZOFFSETTO:+0200
TZNAME:CEST
DTSTART:20260329T010000
END:DAYLIGHT
BEGIN:STANDARD
TZOFFSETFROM:+0200
TZOFFSETTO:+0100
TZNAME:CET
DTSTART:20261025T010000
END:STANDARD
BEGIN:DAYLIGHT
TZOFFSETFROM:+0100
TZOFFSETTO:+0200
TZNAME:CEST
DTSTART:20270328T010000
END:DAYLIGHT
BEGIN:STANDARD
TZOFFSETFROM:+0200
TZOFFSETTO:+0100
TZNAME:CET
DTSTART:20271031T010000
END:STANDARD
END:VTIMEZONE
BEGIN:VEVENT
DTSTART;TZID=Europe/Zurich:20260807T100000
DTEND;TZID=Europe/Zurich:20260809T170000
DTSTAMP:20260420T000534
CREATED:20250916T214928Z
LAST-MODIFIED:20251214T112641Z
UID:363-1786096800-1786294800@gehrt.ch
SUMMARY:Davos Bike-Weekend
DESCRIPTION:Mountainbiking in den Bündner Alpen\n\n\n\n\n\n\nMountainbike Weekend in Davos\, dem Trail-Eldorado der Schweiz\, vom Freitag 08. bis Sonntag 10. August 2025. Bike Adventure Tours bietet verschiedene Bikerouten und Bikekategorien an\, für Einsteiger\, Geniesser\, Trail-Jäger und Enduro Spezis\, wahlweise mit reiner Muskelkraft oder E-Hilfe. Davos ist immer eine Reise wert und mit dem Bike sowieso! \n\nAnmelden direkt hier bei Bike Adventure Tous
URL:https://gehrt.ch/bike-event/davos-bike-weekend/
LOCATION:Davos\, Davos\, GR\, 7270\, Switzerland
ORGANIZER;CN="Bike Adventure Tours":MAILTO:info@bikereisen.ch
END:VEVENT
END:VCALENDAR