BEGIN:VCALENDAR
VERSION:2.0
PRODID:-//Willkommen bei Alexis &amp; Monika - ECPv6.15.20//NONSGML v1.0//EN
CALSCALE:GREGORIAN
METHOD:PUBLISH
X-WR-CALNAME:Willkommen bei Alexis &amp; Monika
X-ORIGINAL-URL:https://gehrt.ch
X-WR-CALDESC:Veranstaltungen für Willkommen bei Alexis &amp; Monika
REFRESH-INTERVAL;VALUE=DURATION:PT1H
X-Robots-Tag:noindex
X-PUBLISHED-TTL:PT1H
BEGIN:VTIMEZONE
TZID:Europe/Zurich
BEGIN:DAYLIGHT
TZOFFSETFROM:+0100
TZOFFSETTO:+0200
TZNAME:CEST
DTSTART:20250330T010000
END:DAYLIGHT
BEGIN:STANDARD
TZOFFSETFROM:+0200
TZOFFSETTO:+0100
TZNAME:CET
DTSTART:20251026T010000
END:STANDARD
BEGIN:DAYLIGHT
TZOFFSETFROM:+0100
TZOFFSETTO:+0200
TZNAME:CEST
DTSTART:20260329T010000
END:DAYLIGHT
BEGIN:STANDARD
TZOFFSETFROM:+0200
TZOFFSETTO:+0100
TZNAME:CET
DTSTART:20261025T010000
END:STANDARD
BEGIN:DAYLIGHT
TZOFFSETFROM:+0100
TZOFFSETTO:+0200
TZNAME:CEST
DTSTART:20270328T010000
END:DAYLIGHT
BEGIN:STANDARD
TZOFFSETFROM:+0200
TZOFFSETTO:+0100
TZNAME:CET
DTSTART:20271031T010000
END:STANDARD
END:VTIMEZONE
BEGIN:VEVENT
DTSTART;TZID=Europe/Zurich:20260605T120000
DTEND;TZID=Europe/Zurich:20260607T170000
DTSTAMP:20260419T222037
CREATED:20250916T213923Z
LAST-MODIFIED:20251214T112705Z
UID:356-1780660800-1780851600@gehrt.ch
SUMMARY:Bike Adventure Tours Reiseleiter Seminar (nur BAT Reiseleiter)
DESCRIPTION:An diesem Wochenende sind wir bei Bike Adventures Tours an der jährlichen Reiseleiter Weiterbildung. Die ist kein „öffentlicher“ Event. Letztes Jahr hatten wir uns mit der Thematik „Social Media“ und der Integration des Angebots von Abenteuer-Reisen beschäftigt.
URL:https://gehrt.ch/bike-event/bike-adventure-tours-reiseleiter-seminar-nur-bat-reiseleiter/
LOCATION:Davos\, Davos\, GR\, 7270\, Switzerland
ORGANIZER;CN="Bike Adventure Tours":MAILTO:info@bikereisen.ch
END:VEVENT
END:VCALENDAR