BEGIN:VCALENDAR
VERSION:2.0
PRODID:-//Willkommen bei Alexis &amp; Monika - ECPv6.15.20//NONSGML v1.0//EN
CALSCALE:GREGORIAN
METHOD:PUBLISH
X-WR-CALNAME:Willkommen bei Alexis &amp; Monika
X-ORIGINAL-URL:https://gehrt.ch
X-WR-CALDESC:Veranstaltungen für Willkommen bei Alexis &amp; Monika
REFRESH-INTERVAL;VALUE=DURATION:PT1H
X-Robots-Tag:noindex
X-PUBLISHED-TTL:PT1H
BEGIN:VTIMEZONE
TZID:Europe/Helsinki
BEGIN:DAYLIGHT
TZOFFSETFROM:+0200
TZOFFSETTO:+0300
TZNAME:EEST
DTSTART:20250330T010000
END:DAYLIGHT
BEGIN:STANDARD
TZOFFSETFROM:+0300
TZOFFSETTO:+0200
TZNAME:EET
DTSTART:20251026T010000
END:STANDARD
BEGIN:DAYLIGHT
TZOFFSETFROM:+0200
TZOFFSETTO:+0300
TZNAME:EEST
DTSTART:20260329T010000
END:DAYLIGHT
BEGIN:STANDARD
TZOFFSETFROM:+0300
TZOFFSETTO:+0200
TZNAME:EET
DTSTART:20261025T010000
END:STANDARD
BEGIN:DAYLIGHT
TZOFFSETFROM:+0200
TZOFFSETTO:+0300
TZNAME:EEST
DTSTART:20270328T010000
END:DAYLIGHT
BEGIN:STANDARD
TZOFFSETFROM:+0300
TZOFFSETTO:+0200
TZNAME:EET
DTSTART:20271031T010000
END:STANDARD
END:VTIMEZONE
BEGIN:VEVENT
DTSTART;TZID=Europe/Helsinki:20260331T190000
DTEND;TZID=Europe/Helsinki:20260331T194500
DTSTAMP:20260419T185114
CREATED:20260321T094051Z
LAST-MODIFIED:20260323T212941Z
UID:548-1774983600-1774986300@gehrt.ch
SUMMARY:Online Vortrag Schottland Bike Reise
DESCRIPTION:Am Dienstag\, 31. März 2026\, um 19.00 Uhr stellen wir unsere Schottland Reise an einem MS-Teams Online Vortrag vor. Dauer: ca. 30 min. \nErlebe die raue Wildheit Schottlands ein letztes Mal hautnah: Diesen Herbst führen wir unsere legendäre Bikereise quer durch die Highlands als exklusive Dernière durch. Bevor wir zum finalen Mal die Trails zwischen nebelverhangenen Burgen und glitzernden Lochs unter die Räder nehmen\, laden wir dich zu unserem Online-Reisevortrag ein. \nWas dich erwartet: \n\nHighland-Magie: Eindrucksvolle Bilder von abwechslungsreichen Bike-Strecken\, historischen Orten und schönen Dörfer Schottlands.\nKultur & Kulinarik: Einblicke in die Welt des Whiskys\, gemütliche Abende in typischen Gaststätten und herrschaftlichen Anwesen – von Haggis bis zu fangfrischen Meeresfrüchten.\nTour-Details: Alles Wissenswerte zur Route\, den Unterkünften und dem ganz besonderen Flair dieser Abschluss-Tour.\n\nTauch mit uns ein in die einzigartige Atmosphäre des Nordens und lass dich für unser letztes grosses Schottland-Abenteuer inspirieren. \n  \n  \n \nEindrückliche Landschaften: Die Weite der Landschaft\, Lochs (Seen) und lila Erika Büsche. \n \nIm Bild das Glenfinnan Monument bzw. die „Harry Potter Brücke“ nach Hogwarts. \nAnmeldung: Registriere dich jetzt für den Online-Vortrag! \nDirekt in Microsoft Teams:\nBesprechungs-ID: 347 049 120 124 63\nPasscode: m4m4Lj6e\n\n  Link zu den Informationen auf der Bike Adventure Tours Seite
URL:https://gehrt.ch/bike-event/online-vortrag-schottland-bike-reise/
LOCATION:Online\, -\, -\, -\, Switzerland
ORGANIZER;CN="Bike Adventure Tours":MAILTO:info@bikereisen.ch
END:VEVENT
END:VCALENDAR